Workbook

Sheet MoM By CampaignPlatform
A1: Dates | B1: Month | C1: Metrics | D1: Google Adwords | E1: Facebook | F1: Facebook | G1: Total
A2: =B2 -> 43027 | B2: 43027 | C2: Clicks | D2: =rtbmH2(Documentation!$B$7, $C2:$C6,D$1,$A$2:$A$3,0) -> #ERROR! | E2: =rtbmH2(Documentation!$B$7, $C2:$C6,E$1,$A$2:$A$3,0) -> #ERROR! | F2: =rtbmH2(Documentation!$B$7, $C2:$C6,F$1,$A$2:$A$3,0) -> #ERROR! | G2: =rtbmH2(Documentation!$B$7, $C2:$C6,G$1,$A$2:$A$3,0) -> #ERROR!
A3: =EDATE(B2,1)-1 -> 43057 | C3: Imps
C4: Clicks
C5: Conversion
C6: Revenue
A7: =B7 -> 43058 | B7: =EDATE(B2,1) -> 43058 | C7: Spend | D7: =rtbmH2(Documentation!$B$7, $C7:$C11,D$1,$A$7:$A$8,0) -> #ERROR! | E7: =rtbmH2(Documentation!$B$7, $C7:$C11,E$1,$A$7:$A$8,0) -> #ERROR! | F7: =rtbmH2(Documentation!$B$7, $C7:$C11,F$1,$A$7:$A$8,0) -> #ERROR! | G7: =rtbmH2(Documentation!$B$7, $C7:$C11,G$1,$A$7:$A$8,0) -> #ERROR!
A8: =EDATE(B7,1)-1 -> 43087 | C8: Imps
C9: Clicks
C10: Conversion
C11: Revenue
A12: =B12 -> 43088 | B12: =EDATE(B7,1) -> 43088 | C12: Spend | D12: =rtbmH2(Documentation!$B$7, $C12:$C16,D$1,$A$12:$A$13,0) -> #ERROR! | E12: =rtbmH2(Documentation!$B$7, $C12:$C16,E$1,$A$12:$A$13,0) -> #ERROR! | F12: =rtbmH2(Documentation!$B$7, $C12:$C16,F$1,$A$12:$A$13,0) -> #ERROR! | G12: =rtbmH2(Documentation!$B$7, $C12:$C16,G$1,$A$12:$A$13,0) -> #ERROR!
A13: =EDATE(B12,1)-1 -> 43118 | C13: Imps
C14: Clicks
C15: Conversion
C16: Revenue
B17: Revenue Change MoM | C17: Spend | D17: =IFERROR((OFFSET(D17,-5,0,1)-OFFSET(D17,-10,0,1))/OFFSET(D17,-10,0,1),0) -> 0 | E17: =IFERROR((OFFSET(E17,-5,0,1)-OFFSET(E17,-10,0,1))/OFFSET(E17,-10,0,1),0) -> 0 | F17: =IFERROR((OFFSET(F17,-5,0,1)-OFFSET(F17,-10,0,1))/OFFSET(F17,-10,0,1),0) -> 0 | G17: =IFERROR((OFFSET(G17,-5,0,1)-OFFSET(G17,-10,0,1))/OFFSET(G17,-10,0,1),0) -> 0
C18: Imps | D18: =IFERROR((OFFSET(D18,-5,0,1)-OFFSET(D18,-10,0,1))/OFFSET(D18,-10,0,1),0) -> 0 | E18: =IFERROR((OFFSET(E18,-5,0,1)-OFFSET(E18,-10,0,1))/OFFSET(E18,-10,0,1),0) -> 0 | F18: =IFERROR((OFFSET(F18,-5,0,1)-OFFSET(F18,-10,0,1))/OFFSET(F18,-10,0,1),0) -> 0 | G18: =IFERROR((OFFSET(G18,-5,0,1)-OFFSET(G18,-10,0,1))/OFFSET(G18,-10,0,1),0) -> 0
C19: Clicks | D19: =IFERROR((OFFSET(D19,-5,0,1)-OFFSET(D19,-10,0,1))/OFFSET(D19,-10,0,1),0) -> 0 | E19: =IFERROR((OFFSET(E19,-5,0,1)-OFFSET(E19,-10,0,1))/OFFSET(E19,-10,0,1),0) -> 0 | F19: =IFERROR((OFFSET(F19,-5,0,1)-OFFSET(F19,-10,0,1))/OFFSET(F19,-10,0,1),0) -> 0 | G19: =IFERROR((OFFSET(G19,-5,0,1)-OFFSET(G19,-10,0,1))/OFFSET(G19,-10,0,1),0) -> 0
C20: Conversion | D20: =IFERROR((OFFSET(D20,-5,0,1)-OFFSET(D20,-10,0,1))/OFFSET(D20,-10,0,1),0) -> 0 | E20: =IFERROR((OFFSET(E20,-5,0,1)-OFFSET(E20,-10,0,1))/OFFSET(E20,-10,0,1),0) -> 0 | F20: =IFERROR((OFFSET(F20,-5,0,1)-OFFSET(F20,-10,0,1))/OFFSET(F20,-10,0,1),0) -> 0 | G20: =IFERROR((OFFSET(G20,-5,0,1)-OFFSET(G20,-10,0,1))/OFFSET(G20,-10,0,1),0) -> 0
C21: Revenue | D21: =IFERROR((OFFSET(D21,-5,0,1)-OFFSET(D21,-10,0,1))/OFFSET(D21,-10,0,1),0) -> 0 | E21: =IFERROR((OFFSET(E21,-5,0,1)-OFFSET(E21,-10,0,1))/OFFSET(E21,-10,0,1),0) -> 0 | F21: =IFERROR((OFFSET(F21,-5,0,1)-OFFSET(F21,-10,0,1))/OFFSET(F21,-10,0,1),0) -> 0 | G21: =IFERROR((OFFSET(G21,-5,0,1)-OFFSET(G21,-10,0,1))/OFFSET(G21,-10,0,1),0) -> 0
B25: Month | C25: Campaigns/Filters | D25: Spend | E25: Imps | F25: Clicks | G25: Conversion | H25: Revenue
A26: =B26 -> 42826 | B26: 42826 | C26: Retargeting | D26: =rtbmV2(Documentation!$B$7,D$25:H$25,,$A$26:$A$27,$C26) -> #ERROR!
A27: =EDATE(B26,1)-1 -> 42855 | C27: Certified | D27: =rtbmV2(Documentation!$B$7,D$25:H$25,,$A$26:$A$27,$C27) -> #ERROR!
C28: Brand | D28: =rtbmV2(Documentation!$B$7,D$25:H$25,,$A$26:$A$27,$C28) -> #ERROR!
C29: Non Brand | D29: =rtbmV2(Documentation!$B$7,D$25:H$25,,$A$26:$A$27,$C29) -> #ERROR!
A30: =B30 -> 42856 | B30: =EDATE(B26,1) -> 42856 | C30: =C26 -> Retargeting | D30: =rtbmV2(Documentation!$B$7,D$25:H$25,,$A$30:$A$31,$C30) -> #ERROR!
A31: =EDATE(B30,1)-1 -> 42886 | C31: =C27 -> Certified | D31: =rtbmV2(Documentation!$B$7,D$25:H$25,,$A$30:$A$31,$C31) -> #ERROR!
C32: =C28 -> Brand | D32: =rtbmV2(Documentation!$B$7,D$25:H$25,,$A$30:$A$31,$C32) -> #ERROR!
C33: =C29 -> Non Brand | D33: =rtbmV2(Documentation!$B$7,D$25:H$25,,$A$30:$A$31,$C33) -> #ERROR!
A34: =B34 -> 42887 | B34: =EDATE(B30,1) -> 42887 | C34: =C30 -> Retargeting | D34: =rtbmV2(Documentation!$B$7,D$25:H$25,,$A$34:$A$35,$C34) -> #ERROR!
A35: =EDATE(B34,1)-1 -> 42916 | C35: =C31 -> Certified | D35: =rtbmV2(Documentation!$B$7,D$25:H$25,,$A$34:$A$35,$C35) -> #ERROR!
C36: =C32 -> Brand | D36: =rtbmV2(Documentation!$B$7,D$25:H$25,,$A$34:$A$35,$C36) -> #ERROR!
C37: =C33 -> Non Brand | D37: =rtbmV2(Documentation!$B$7,D$25:H$25,,$A$34:$A$35,$C37) -> #ERROR!
B38: Revenue Change MoM | C38: =C34 -> Retargeting | D38: =IFERROR((OFFSET(D38,-4,0,1)-OFFSET(D38,-8,0,1))/OFFSET(D38,-8,0,1),0) -> 0 | E38: =IFERROR((OFFSET(E38,-4,0,1)-OFFSET(E38,-8,0,1))/OFFSET(E38,-8,0,1),0) -> 0 | F38: =IFERROR((OFFSET(F38,-4,0,1)-OFFSET(F38,-8,0,1))/OFFSET(F38,-8,0,1),0) -> 0 | G38: =IFERROR((OFFSET(G38,-4,0,1)-OFFSET(G38,-8,0,1))/OFFSET(G38,-8,0,1),0) -> 0 | H38: =IFERROR((OFFSET(H38,-4,0,1)-OFFSET(H38,-8,0,1))/OFFSET(H38,-8,0,1),0) -> 0
C39: =C35 -> Certified | D39: =IFERROR((OFFSET(D39,-4,0,1)-OFFSET(D39,-8,0,1))/OFFSET(D39,-8,0,1),0) -> 0 | E39: =IFERROR((OFFSET(E39,-4,0,1)-OFFSET(E39,-8,0,1))/OFFSET(E39,-8,0,1),0) -> 0 | F39: =IFERROR((OFFSET(F39,-4,0,1)-OFFSET(F39,-8,0,1))/OFFSET(F39,-8,0,1),0) -> 0 | G39: =IFERROR((OFFSET(G39,-4,0,1)-OFFSET(G39,-8,0,1))/OFFSET(G39,-8,0,1),0) -> 0 | H39: =IFERROR((OFFSET(H39,-4,0,1)-OFFSET(H39,-8,0,1))/OFFSET(H39,-8,0,1),0) -> 0
C40: =C36 -> Brand | D40: =IFERROR((OFFSET(D40,-4,0,1)-OFFSET(D40,-8,0,1))/OFFSET(D40,-8,0,1),0) -> 0 | E40: =IFERROR((OFFSET(E40,-4,0,1)-OFFSET(E40,-8,0,1))/OFFSET(E40,-8,0,1),0) -> 0 | F40: =IFERROR((OFFSET(F40,-4,0,1)-OFFSET(F40,-8,0,1))/OFFSET(F40,-8,0,1),0) -> 0 | G40: =IFERROR((OFFSET(G40,-4,0,1)-OFFSET(G40,-8,0,1))/OFFSET(G40,-8,0,1),0) -> 0 | H40: =IFERROR((OFFSET(H40,-4,0,1)-OFFSET(H40,-8,0,1))/OFFSET(H40,-8,0,1),0) -> 0
C41: =C37 -> Non Brand | D41: =IFERROR((OFFSET(D41,-4,0,1)-OFFSET(D41,-8,0,1))/OFFSET(D41,-8,0,1),0) -> 0 | E41: =IFERROR((OFFSET(E41,-4,0,1)-OFFSET(E41,-8,0,1))/OFFSET(E41,-8,0,1),0) -> 0 | F41: =IFERROR((OFFSET(F41,-4,0,1)-OFFSET(F41,-8,0,1))/OFFSET(F41,-8,0,1),0) -> 0 | G41: =IFERROR((OFFSET(G41,-4,0,1)-OFFSET(G41,-8,0,1))/OFFSET(G41,-8,0,1),0) -> 0 | H41: =IFERROR((OFFSET(H41,-4,0,1)-OFFSET(H41,-8,0,1))/OFFSET(H41,-8,0,1),0) -> 0

Sheet Documentation
A2: Documentation for "Mom By Campaign/Platform"
A4: Step 1 | B4: Register for free online, connect ad platforms, and generate a report
B5: report.improvado.io
A6: Step 2 | B6: Paste the URL from your generated report in the cell below
B7: https://report.improvado.io/bcf8d27a16e99ba5f90f605e46cc4cd8/
A8: Step 3 | B8: Create a few filters (reference the Documentation tab for help) and add them in the Campaigns/Filters column to second table
A11: Want to finish April reporting in 3 steps? | C11: Check it out!
A12: 1. Insert 5 rows below March-2016 | C12: Change "Facebook" to "AdWords"
A13: 2. Highlight-copy the whole March row | C13: Change "Imps" to "Clicks"
A14: 3. Paste into first empty cell :)
A16: Want to finish April reporting in 3 steps? | D16: Want to see data for another campaign in January?
A17: 1. Insert 5 rows below March-2016 | D17: Try changing Transciption to Translation
A18: 2. Highlight-copy the whole March row
A19: 3. Paste into first empty cell :)
A22: So you want to create your own templates, ey? Well then let's get started!
A24: Firstly, the keywords:
A25: PLATFORM_NAME
A26: Facebook | B26: Twitter | C26: Instagram | D26: Pinterest | E26: Adwords | F26: Bing | G26: DCM | H26: YouTube (Adwords) | I26: Google Analytics | J26: Search | K26: Social | L26: Display | M26: Video | N26: Total
A28: COLUMN_NAME
A29: Spend | B29: Imps | C29: Clicks | D29: Conversion | E29: Revenue
A31: Let's first talk about the concept of "Filters"
A32: In your report.improvado.io dashboard, you can create filters with text search to help you organize your various campaigns.
A33: So let's say you represent XYZ Transcription and all your AdWords and Facebook campaigns have "Transcription" in the name: set up a filter to include "transcription" in the search and voila!
A34: Get it? Got it? Good.
A36: Now that you have the keywords and a general understanding of our filter system, how do you query for Imps across all the XYZ campaigns you're currently running on AdWords for yesterday???
A38: Use this formula:
A39: iferror ( rtbmD2 ( REPORT_URL, COLUMN_NAME, PLATFORM_NAME, START_DATE, END_DATE, FILTERS), 0)
A41: Want a real life example? Here ya go:
A42: URL | B42: https://report.improvado.io/bcf8d27a16e99ba5f90f605e46cc4cd8/
A43: PLATFORM_NAME | B43: Adwords
A44: FILTERS | B44: Retargeting
A46: Week end date | B46: Spend | C46: Imps | D46: Clicks | E46: Conversion | F46: CTR % | G46: Cost per Visit | H46: Cost per check-out | I46: Conversion rate | J46: Revenue | K46: Profit* | L46: ROAS
A47: 43009 | B47: =rtbmD2($B$42, B$46, $B$43, $A47-6, $A47, $B$44) -> #ERROR! | C47: =iferror(rtbmD2($B$42, C$46, $B$43, $A47-6, $A47, $B$44), 0) -> 0 | D47: =iferror(rtbmD2($B$42, D$46, $B$43, $A47-6, $A47, $B$44), 0) -> 0 | E47: =iferror(rtbmD2($B$42, E$46, $B$43, $A47-6, $A47, $B$44), 0) -> 0 | F47: =iferror((D47/C47),0) -> 0 | G47: =iferror(B47/D47,0) -> 0 | H47: =iferror(B47/E47,0) -> 0 | I47: =iferror(E47/D47,0) -> 0 | J47: =iferror(rtbmD2($B$42, J$46, $B$43, $A47-6, $A47, $B$44), 0) -> 0 | K47: =J47-B47 -> #ERROR! | L47: =IFERROR(K47/B47,0) -> 0
A48: =A47+7 -> 43016 | B48: =iferror(rtbmD2($B$42, B$46, $B$43, $A48-6, $A48, $B$44), 0) -> 0 | C48: =iferror(rtbmD2($B$42, C$46, $B$43, $A48-6, $A48, $B$44), 0) -> 0 | D48: =iferror(rtbmD2($B$42, D$46, $B$43, $A48-6, $A48, $B$44), 0) -> 0 | E48: =iferror(rtbmD2($B$42, E$46, $B$43, $A48-6, $A48, $B$44), 0) -> 0 | F48: =iferror(D48/C48,0) -> 0 | G48: =iferror(B48/D48,0) -> 0 | H48: =iferror(B48/E48,0) -> 0 | I48: =iferror(E48/D48,0) -> 0 | J48: =iferror(rtbmD2($B$42, J$46, $B$43, $A48-6, $A48, $B$44), 0) -> 0 | K48: =J48-B48 -> 0 | L48: =IFERROR(K48/B48,0) -> 0
A49: =A48+7 -> 43023 | B49: =iferror(rtbmD2($B$42, B$46, $B$43, $A49-6, $A49, $B$44), 0) -> 0 | C49: =iferror(rtbmD2($B$42, C$46, $B$43, $A49-6, $A49, $B$44), 0) -> 0 | D49: =iferror(rtbmD2($B$42, D$46, $B$43, $A49-6, $A49, $B$44), 0) -> 0 | E49: =iferror(rtbmD2($B$42, E$46, $B$43, $A49-6, $A49, $B$44), 0) -> 0 | F49: =iferror(D49/C49,0) -> 0 | G49: =iferror(B49/D49,0) -> 0 | H49: =iferror(B49/E49,0) -> 0 | I49: =iferror(E49/D49,0) -> 0 | J49: =iferror(rtbmD2($B$42, J$46, $B$43, $A49-6, $A49, $B$44), 0) -> 0 | K49: =J49-B49 -> 0 | L49: =IFERROR(K49/B49,0) -> 0
A50: =A49+7 -> 43030 | B50: =iferror(rtbmD2($B$42, B$46, $B$43, $A50-6, $A50, $B$44), 0) -> 0 | C50: =iferror(rtbmD2($B$42, C$46, $B$43, $A50-6, $A50, $B$44), 0) -> 0 | D50: =iferror(rtbmD2($B$42, D$46, $B$43, $A50-6, $A50, $B$44), 0) -> 0 | E50: =iferror(rtbmD2($B$42, E$46, $B$43, $A50-6, $A50, $B$44), 0) -> 0 | F50: =iferror(D50/C50,0) -> 0 | G50: =iferror(B50/D50,0) -> 0 | H50: =iferror(B50/E50,0) -> 0 | I50: =iferror(E50/D50,0) -> 0 | J50: =iferror(rtbmD2($B$42, J$46, $B$43, $A50-6, $A50, $B$44), 0) -> 0 | K50: =J50-B50 -> 0 | L50: =IFERROR(K50/B50,0) -> 0
A52: Now, imagine, copying all of row 29 and pasting it to row 30 to complete all of that week's reporting in SECONDS!
A53: Or imagine setting up a report for each of your clients and being able to compare them all side by side, with graphs and everything
A54: Set up different sheets to represent different data to easily switch between
A56: Demo Monthly Report | B56: 43009
...

Sheet Variables
A1: Variables
A2: Report URL | B2: https://report.improvado.io/bcf8d27a16e99ba5f90f605e46cc4cd8/
A3: Platform Names | B3: Adriver
B4: AdRoll
B5: Amazon Sponsored Products
B6: Apple Search
B7: AppsFlyer
B8: Bing
B9: CallTrackingMetrics
B10: Criteo
B11: CSV import
B12: Facebook
B13: Facebook Groups
B14: Facebook Pages
B15: Google Adwords
... B49: YouTube(Adwords)
A50: Column Names | B50: Spend
B51: Imps
B52: Clicks
B53: Conversion
B54: Revenue

Sheet RECAP
A1: Week end date | B1: Amount Spend (US $) | C1: Imps | D1: Website Visits | E1: Signups FB* | F1: Signups GA** | G1: CTR | H1: Cost per Visit | I1: Cost per Signup | K1: Conversion rate
A2: =A3-7 -> 42120 | B2: =SUMIFS('Campaign level'!$D$2:$D$925,'Campaign level'!$B$2:$B$925,$A2) -> #N/A | C2: =SUMIFS('Campaign level'!$F$2:$F$925,'Campaign level'!$B$2:$B$925,$A2) -> #N/A | D2: =SUMIFS('Campaign level'!$H$2:$H$925,'Campaign level'!$B$2:$B$925,$A2) -> #N/A | E2: =SUMIFS(#REF!,'Campaign level'!$B$2:$B$925,$A2) -> #N/A | G2: =D2/C2 -> #N/A | H2: =B2/D2 -> #N/A | I2: =B2/E2 -> #N/A | K2: =E2/D2 -> #N/A
A3: 42127 | B3: =SUMIFS('Campaign level'!$D$2:$D$925,'Campaign level'!$B$2:$B$925,$A3) -> #N/A | C3: =SUMIFS('Campaign level'!$F$2:$F$925,'Campaign level'!$B$2:$B$925,$A3) -> #N/A | D3: =SUMIFS('Campaign level'!$H$2:$H$925,'Campaign level'!$B$2:$B$925,$A3) -> #N/A | E3: =SUMIFS(#REF!,'Campaign level'!$B$2:$B$925,$A3) -> #N/A | G3: =D3/C3 -> #N/A | H3: =B3/D3 -> #N/A | I3: =B3/E3 -> #N/A | K3: =E3/D3 -> #N/A
A4: =A3+7 -> 42134 | B4: =SUMIFS('Campaign level'!$D$2:$D$925,'Campaign level'!$B$2:$B$925,$A4) -> #N/A | C4: =SUMIFS('Campaign level'!$F$2:$F$925,'Campaign level'!$B$2:$B$925,$A4) -> #N/A | D4: =SUMIFS('Campaign level'!$H$2:$H$925,'Campaign level'!$B$2:$B$925,$A4) -> #N/A | E4: 5 | G4: =D4/C4 -> #N/A | H4: =B4/D4 -> #N/A | I4: =B4/E4 -> #N/A | K4: =E4/D4 -> #N/A
A5: =A4+7 -> 42141 | B5: =SUMIFS('Campaign level'!$D$2:$D$925,'Campaign level'!$B$2:$B$925,$A5) -> #N/A | C5: =SUMIFS('Campaign level'!$F$2:$F$925,'Campaign level'!$B$2:$B$925,$A5) -> #N/A | D5: =SUMIFS('Campaign level'!$H$2:$H$925,'Campaign level'!$B$2:$B$925,$A5) -> #N/A | E5: 5 | F5: 7 | G5: =D5/C5 -> #N/A | H5: =B5/D5 -> #N/A | I5: =B5/F5 -> #N/A | K5: =E5/D5 -> #N/A
A6: Total | B6: =sum(B2:B5) -> #N/A | C6: =sum(C2:C5) -> #N/A | D6: =sum(D2:D5) -> #N/A | E6: =sum(E2:E5) -> #N/A | F6: =sum(E2:E4)+F5 -> #N/A | G6: =D6/C6 -> #N/A | H6: =B6/D6 -> #N/A | I6: =B6/F6 -> #N/A | K6: =E6/D6 -> #N/A
A7: Evol. w/w | B7: =B4/B3-1 -> #N/A | C7: =C4/C3-1 -> #N/A | D7: =D4/D3-1 -> #N/A | E7: =E4/E3-1 -> #N/A | G7: =G4/G3-1 -> #N/A | H7: =H4/H3-1 -> #N/A | I7: =I4/I3-1 -> #N/A
A8: * FB Pixel
A9: ** Facebook and (other) with utm_campaign
A11: Target Spend | B11: 2000 | C11: monthly
B12: =B11/4.5 -> 444.44444 | C12: weekly
A13: CPA
