Workbook

Sheet Summary
B13: Platform to see data for | D13: Facebook
B15: Day | C15: Spend | D15: Imps | E15: Clicks | F15: Conversion | G15: CTR % | H15: CPC | I15: CPA
B16: 42899 | C16: {=rtbmV2(Documentation!$B$4,C15,$D$13,$B$16:$B$28)} -> #ERROR! | D16: {=rtbmV2(Documentation!$B$4,D15,$D$13,$B$16:$B$28)} -> #ERROR! | E16: {=rtbmV2(Documentation!$B$4,E15,$D$13,$B$16:$B$28)} -> #ERROR! | F16: {=rtbmV2(Documentation!$B$4,F15,$D$13,$B$16:$B$28)} -> #ERROR! | G16: =iferror((E16/D16),0) -> 0 | H16: =iferror(C16/E16,0) -> 0 | I16: =iferror(C16/F16,0) -> 0
B17: =B16+1 -> 42900 | G17: =iferror(E17/D17,0) -> 0 | H17: =iferror(C17/E17,0) -> 0 | I17: =iferror(C17/F17,0) -> 0
B18: =B17+1 -> 42901 | G18: =iferror(E18/D18,0) -> 0 | H18: =iferror(C18/E18,0) -> 0 | I18: =iferror(C18/F18,0) -> 0
B19: =B18+1 -> 42902 | G19: =iferror(E19/D19,0) -> 0 | H19: =iferror(C19/E19,0) -> 0 | I19: =iferror(C19/F19,0) -> 0
B20: =B19+1 -> 42903 | G20: =iferror(E20/D20,0) -> 0 | H20: =iferror(C20/E20,0) -> 0 | I20: =iferror(C20/F20,0) -> 0
B21: =B20+1 -> 42904 | G21: =iferror(E21/D21,0) -> 0 | H21: =iferror(C21/E21,0) -> 0 | I21: =iferror(C21/F21,0) -> 0
B22: =B21+1 -> 42905 | G22: =iferror(E22/D22,0) -> 0 | H22: =iferror(C22/E22,0) -> 0 | I22: =iferror(C22/F22,0) -> 0
B23: =B22+1 -> 42906 | G23: =iferror(E23/D23,0) -> 0 | H23: =iferror(C23/E23,0) -> 0 | I23: =iferror(C23/F23,0) -> 0
B24: =B23+1 -> 42907 | G24: =iferror(E24/D24,0) -> 0 | H24: =iferror(C24/E24,0) -> 0 | I24: =iferror(C24/F24,0) -> 0
B25: =B24+1 -> 42908 | G25: =iferror(E25/D25,0) -> 0 | H25: =iferror(C25/E25,0) -> 0 | I25: =iferror(C25/F25,0) -> 0
B26: =B25+1 -> 42909 | G26: =iferror(E26/D26,0) -> 0 | H26: =iferror(C26/E26,0) -> 0 | I26: =iferror(C26/F26,0) -> 0
B27: =B26+1 -> 42910 | G27: =iferror(E27/D27,0) -> 0 | H27: =iferror(C27/E27,0) -> 0 | I27: =iferror(C27/F27,0) -> 0
B28: =B27+1 -> 42911
B29: Total | C29: =iferror(rtbmD2(#REF!,C$15, $D$13,$B$16, offset(C29,-1,-1,1)),0) -> 0 | D29: =iferror(rtbmD2(#REF!,D$15, $D$13,$B$16, offset(D29,-1,-2,1)),0) -> 0 | E29: =iferror(rtbmD2(#REF!,E$15, $D$13,$B$16, offset(E29,-1,-3,1)),0) -> 0 | F29: =iferror(rtbmD2(#REF!,F$15, $D$13,$B$16, offset(F29,-1,-4,1)),0) -> 0 | G29: =iferror(E29/D29,0) -> 0 | H29: =iferror(C29/E29,0) -> 0 | I29: =iferror(C29/F29,0) -> 0
B30: Evol. d/d | C30: =iferror((offset(C29,-1,0,1)-offset(C29,-2,0,1))/offset(C29,-2,0,1),0) -> 0 | D30: =iferror((offset(D29,-1,0,1)-offset(D29,-2,0,1))/offset(D29,-2,0,1),0) -> 0 | E30: =iferror((offset(E29,-1,0,1)-offset(E29,-2,0,1))/offset(E29,-2,0,1),0) -> 0 | F30: =iferror((offset(F29,-1,0,1)-offset(F29,-2,0,1))/offset(F29,-2,0,1),0) -> 0 | G30: =iferror((offset(G29,-1,0,1)-offset(G29,-2,0,1))/offset(G29,-2,0,1),0) -> 0 | H30: =iferror((offset(H29,-1,0,1)-offset(H29,-2,0,1))/offset(H29,-2,0,1),0) -> 0 | I30: =iferror((offset(I29,-1,0,1)-offset(I29,-2,0,1))/offset(I29,-2,0,1),0) -> 0
A32: =B32 -> 42899 | B32: =B16 -> 42899 | C32: =rtbmV2(Documentation!$B$4,C$15:F$15, $D$13,$A$32:$A$33,,0) -> #ERROR! | G32: =iferror(E32/D32,0) -> 0 | H32: =iferror(C32/E32,0) -> 0 | I32: =iferror(C32/F32,0) -> 0
A33: =edate(B32,1)-1 -> 42928 | B33: =edate(B32,1) -> 42929 | C33: =rtbmV2(Documentation!$B$4,C$15:F$15, $D$13,$A$34:$A$35,,0) -> #ERROR! | G33: =iferror(E33/D33,0) -> 0 | H33: =iferror(C33/E33,0) -> 0 | I33: =iferror(C33/F33,0) -> 0
A34: =edate(A32,1) -> 42929 | B34: Growth m/m | C34: =iferror((offset(C34,-1,0,1)-offset(C34,-2,0,1))/offset(C34,-2,0,1),0) -> 0 | D34: =iferror((offset(D34,-1,0,1)-offset(D34,-2,0,1))/offset(D34,-2,0,1),0) -> 0 | E34: =iferror((offset(E34,-1,0,1)-offset(E34,-2,0,1))/offset(E34,-2,0,1),0) -> 0 | F34: =iferror((offset(F34,-1,0,1)-offset(F34,-2,0,1))/offset(F34,-2,0,1),0) -> 0 | G34: =iferror((offset(G34,-1,0,1)-offset(G34,-2,0,1))/offset(G34,-2,0,1),0) -> 0 | H34: =iferror((offset(H34,-1,0,1)-offset(H34,-2,0,1))/offset(H34,-2,0,1),0) -> 0 | I34: =iferror((offset(I34,-1,0,1)-offset(I34,-2,0,1))/offset(I34,-2,0,1),0) -> 0
A35: =edate(A34,1)-1 -> 42959
A37: =A21

Sheet Documentation
A1: Step 1 | B1: Register for free online, connect ad platforms, and generate a report
B2: report.improvado.io
A3: Step 2 | B3: Paste the URL from your generated report in the cell below
B4: https://report.improvado.io/73b7873b49d8c6977ee1d650b2ad59f6/
A5: Step 3 | B5: Contact us when you're ready to automate your current spreadsheets :)
A8: So you want to create your own templates, ey? Well then let's get started!
A10: Firstly, the keywords:
A11: PLATFORM_NAME
A12: Facebook | B12: Twitter | C12: Instagram | D12: Pinterest | E12: Adwords | F12: Bing | G12: DCM | H12: YouTube (video) | I12: Search | J12: Social | K12: Display | L12: Video | M12: Total
A14: COLUMN_NAME
A15: Spend | B15: Imps | C15: Clicks | D15: Conversion | E15: Revenue
A17: Let's first talk about the concept of "Filters"
A18: In your report.rtb-media.me dashboard, you can create filters with text search to help you organize your various campaigns.
A19: So let's say you represent XYZ Transcription and all your AdWords and Facebook campaigns have "Transcription" in the name: set up a filter to include "transcription" in the search and voila!
A20: Get it? Got it? Good.
A22: Now that you have the keywords and a general understanding of our filter system, how do you query for Imps across all the XYZ campaigns you're currently running on AdWords for yesterday???
A24: Use this formula:
A25: iferror ( rtbmD2 ( REPORT_URL, COLUMN_NAME, PLATFORM_NAME, START_DATE, END_DATE, FILTERS), 0)
A27: Want a real life example? Here ya go:
A28: URL | B28: https://report.improvado.io/bcf8d27a16e99ba5f90f605e46cc4cd8/
A29: PLATFORM_NAME | B29: Adwords
A30: FILTERS | B30: Retargeting
A32: Week end date | B32: Spend | C32: Imps | D32: Clicks | E32: Conversion | F32: CTR % | G32: Cost per Visit | H32: Cost per check-out | I32: Conversion rate | J32: Revenue | K32: Profit* | L32: ROAS
A33: 42954 | B33: =iferror(rtbmD2($B$28, B$32, $B$29, $A33-6, $A33, $B$30), 0) -> 0 | C33: =iferror(rtbmD2($B$28, C$32, $B$29, $A33-6, $A33, $B$30), 0) -> 0 | D33: =iferror(rtbmD2($B$28, D$32, $B$29, $A33-6, $A33, $B$30), 0) -> 0 | E33: =iferror(rtbmD2($B$28, E$32, $B$29, $A33-6, $A33, $B$30), 0) -> 0 | F33: =iferror((D33/C33),0) -> 0 | G33: =iferror(B33/D33,0) -> 0 | H33: =iferror(B33/E33,0) -> 0 | I33: =iferror(E33/D33,0) -> 0 | J33: =iferror(rtbmD2($B$28, J$32, $B$29, $A33-6, $A33, $B$30), 0) -> 0 | K33: =J33-B33 -> 0 | L33: =IFERROR(K33/B33,0) -> 0
A34: =A33+7 -> 42961 | B34: =iferror(rtbmD2($B$28, B$32, $B$29, $A34-6, $A34, $B$30), 0) -> 0 | C34: =iferror(rtbmD2($B$28, C$32, $B$29, $A34-6, $A34, $B$30), 0) -> 0 | D34: =iferror(rtbmD2($B$28, D$32, $B$29, $A34-6, $A34, $B$30), 0) -> 0 | E34: =iferror(rtbmD2($B$28, E$32, $B$29, $A34-6, $A34, $B$30), 0) -> 0 | F34: =iferror(D34/C34,0) -> 0 | G34: =iferror(B34/D34,0) -> 0 | H34: =iferror(B34/E34,0) -> 0 | I34: =iferror(E34/D34,0) -> 0 | J34: =iferror(rtbmD2($B$28, J$32, $B$29, $A34-6, $A34, $B$30), 0) -> 0 | K34: =J34-B34 -> 0 | L34: =IFERROR(K34/B34,0) -> 0
A35: =A34+7 -> 42968 | B35: =iferror(rtbmD2($B$28, B$32, $B$29, $A35-6, $A35, $B$30), 0) -> 0 | C35: =iferror(rtbmD2($B$28, C$32, $B$29, $A35-6, $A35, $B$30), 0) -> 0 | D35: =iferror(rtbmD2($B$28, D$32, $B$29, $A35-6, $A35, $B$30), 0) -> 0 | E35: =iferror(rtbmD2($B$28, E$32, $B$29, $A35-6, $A35, $B$30), 0) -> 0 | F35: =iferror(D35/C35,0) -> 0 | G35: =iferror(B35/D35,0) -> 0 | H35: =iferror(B35/E35,0) -> 0 | I35: =iferror(E35/D35,0) -> 0 | J35: =iferror(rtbmD2($B$28, J$32, $B$29, $A35-6, $A35, $B$30), 0) -> 0 | K35: =J35-B35 -> 0 | L35: =IFERROR(K35/B35,0) -> 0
A36: =A35+7 -> 42975 | B36: =iferror(rtbmD2($B$28, B$32, $B$29, $A36-6, $A36, $B$30), 0) -> 0 | C36: =iferror(rtbmD2($B$28, C$32, $B$29, $A36-6, $A36, $B$30), 0) -> 0 | D36: =iferror(rtbmD2($B$28, D$32, $B$29, $A36-6, $A36, $B$30), 0) -> 0 | E36: =iferror(rtbmD2($B$28, E$32, $B$29, $A36-6, $A36, $B$30), 0) -> 0 | F36: =iferror(D36/C36,0) -> 0 | G36: =iferror(B36/D36,0) -> 0 | H36: =iferror(B36/E36,0) -> 0 | I36: =iferror(E36/D36,0) -> 0 | J36: =iferror(rtbmD2($B$28, J$32, $B$29, $A36-6, $A36, $B$30), 0) -> 0 | K36: =J36-B36 -> 0 | L36: =IFERROR(K36/B36,0) -> 0
A38: Now, imagine, copying all of row 29 and pasting it to row 30 to complete all of that week's reporting in SECONDS!
A39: Or imagine setting up a report for each of your clients and being able to compare them all side by side, with graphs and everything
A40: Set up different sheets to represent different data to easily switch between
A42: Demo Monthly Report | B42: =$A$33-6 -> 42948
B43: =edate(B42,1)-1 -> 42978
B44: Spend
A45: Name | B45: Google Adwords | C45: Bing | D45: YouTube (video) | E45: DCM | F45: Facebook | G45: Instagram | H45: Pinterest | I45: Twitter | J45: Search | K45: Social | L45: Display | M45: Video | N45: Total | O45: URL
A46: Demo Campaign 1 - "Different filters" | B46: =iferror(rtbmD2($O46,$B$44,B$45,$B$42,$B$43),0) -> 0 | C46: =iferror(rtbmD2($O46,$B$44,C$45,$B$42,$B$43),0) -> 0 | D46: =iferror(rtbmD2($O46,$B$44,D$45,$B$42,$B$43),0) -> 0 | E46: =iferror(rtbmD2($O46,$B$44,E$45,$B$42,$B$43),0) -> 0 | F46: =iferror(rtbmD2($O46,$B$44,F$45,$B$42,$B$43),0) -> 0 | G46: =iferror(rtbmD2($O46,$B$44,G$45,$B$42,$B$43),0) -> 0 | H46: =iferror(rtbmD2($O46,$B$44,H$45,$B$42,$B$43),0) -> 0 | I46: =iferror(rtbmD2($O46,$B$44,I$45,$B$42,$B$43),0) -> 0 | J46: =iferror(rtbmD2($O46,$B$44,,$B$42,$B$43,,J$45),0) -> 0 | K46: =iferror(rtbmD2($O46,$B$44,,$B$42,$B$43,,K$45),0) -> 0 | L46: =iferror(rtbmD2($O46,$B$44,,$B$42,$B$43,,L$45),0) -> 0 | M46: =iferror(rtbmD2($O46,$B$44,,$B$42,$B$43,,M$45),0) -> 0 | N46: =iferror(sum(J46:M46),0) -> 0 | O46: https://report.improvado.io/bcf8d27a16e99ba5f90f605e46cc4cd8/?tab=864
A47: Demo Campaign 2 - "Multiple Conversions and Pacing" | B47: =iferror(rtbmD2($O47,$B$44,B$45,$B$42,$B$43),0) -> 0 | C47: =iferror(rtbmD2($O47,$B$44,C$45,$B$42,$B$43),0) -> 0 | D47: =iferror(rtbmD2($O47,$B$44,D$45,$B$42,$B$43),0) -> 0 | E47: =iferror(rtbmD2($O47,$B$44,E$45,$B$42,$B$43),0) -> 0 | F47: =iferror(rtbmD2($O47,$B$44,F$45,$B$42,$B$43),0) -> 0 | G47: =iferror(rtbmD2($O47,$B$44,G$45,$B$42,$B$43),0) -> 0 | H47: =iferror(rtbmD2($O47,$B$44,H$45,$B$42,$B$43),0) -> 0 | I47: =iferror(rtbmD2($O47,$B$44,I$45,$B$42,$B$43),0) -> 0 | J47: =iferror(rtbmD2($O47,$B$44,,$B$42,$B$43,,J$45),0) -> 0 | K47: =iferror(rtbmD2($O47,$B$44,,$B$42,$B$43,,K$45),0) -> 0 | L47: =iferror(rtbmD2($O47,$B$44,,$B$42,$B$43,,L$45),0) -> 0 | M47: =iferror(rtbmD2($O47,$B$44,,$B$42,$B$43,,M$45),0) -> 0 | N47: =iferror(sum(J47:M47),0) -> 0 | O47: https://report.improvado.io/73b7873b49d8c6977ee1d650b2ad59f6/?tab=865
A48: Demo Campaign 3 - Different Ad-Channels and Multiple Conversions(Post Click/Post View) | B48: =iferror(rtbmD2($O48,$B$44,B$45,$B$42,$B$43),0) -> 0 | C48: =iferror(rtbmD2($O48,$B$44,C$45,$B$42,$B$43),0) -> 0 | D48: =iferror(rtbmD2($O48,$B$44,D$45,$B$42,$B$43),0) -> 0 | E48: =iferror(rtbmD2($O48,$B$44,E$45,$B$42,$B$43),0) -> 0 | F48: =iferror(rtbmD2($O48,$B$44,F$45,$B$42,$B$43),0) -> 0 | G48: =iferror(rtbmD2($O48,$B$44,G$45,$B$42,$B$43),0) -> 0 | H48: =iferror(rtbmD2($O48,$B$44,H$45,$B$42,$B$43),0) -> 0 | I48: =iferror(rtbmD2($O48,$B$44,I$45,$B$42,$B$43),0) -> 0 | J48: =iferror(rtbmD2($O48,$B$44,,$B$42,$B$43,,J$45),0) -> 0 | K48: =iferror(rtbmD2($O48,$B$44,,$B$42,$B$43,,K$45),0) -> 0 | L48: =iferror(rtbmD2($O48,$B$44,,$B$42,$B$43,,L$45),0) -> 0 | M48: =iferror(rtbmD2($O48,$B$44,,$B$42,$B$43,,M$45),0) -> 0 | N48: =iferror(sum(J48:M48),0) -> 0 | O48: https://report.improvado.io/d15a4bb563284d9f2f8086d8a29d484e/?tab=672
A51: If you want to get a list of all your campaigns, use this formula:
A52: rtbmProducts(REPORT_URL, Date Start, Date End, METRICS_RANGE, ORDER)
A53: Where METRICS_RANGE is the row of metrics you want data for and ORDER is how you'd like your data ordered
A54: Try changing the range to B53:J53
A56: From: | B56: =$B$42 -> 42948
A57: To: | B57: =edate(B56,1)-1 -> 42978
B59: Account id | C59: Campaign | D59: reach | E59: likes | F59: comments | G59: shares | H59: follows | I59: Imps | J59: clicks | K59: conversion | L59: revenue
A60: =rtbmProducts(B28,B56,B57,D59:L59,"-reach") -> #ERROR!

Sheet Variables
A1: Variables
A2: Report URL | B2: =Documentation!$B$4 -> https://report.improvado.io/73b7873b49d8c6977ee1d650b2ad59f6/
A3: Platform Names | B3: Adriver
B4: AdRoll
B5: Amazon Sponsored Products
B6: Apple Search
B7: AppsFlyer
B8: Bing
B9: CallTrackingMetrics
B10: Criteo
B11: CSV import
B12: Facebook
B13: Facebook Groups
B14: Facebook Pages
B15: Google Adwords
... B49: YouTube(Adwords)
A50: Column Names | B50: Spend
B51: Imps
B52: Clicks
B53: Conversion
B54: Revenue

Sheet RECAP
A1: Week end date | B1: Amount Spend (US $) | C1: Imps | D1: Website Visits | E1: Signups FB* | F1: Signups GA** | G1: CTR % | H1: Cost per Visit | I1: Cost per Signup | K1: Conversion rate
A2: =A3-7 -> 42120 | B2: =SUMIFS('Campaign level'!$D$2:$D$925,'Campaign level'!$B$2:$B$925,$A2) -> #N/A | C2: =SUMIFS('Campaign level'!$F$2:$F$925,'Campaign level'!$B$2:$B$925,$A2) -> #N/A | D2: =SUMIFS('Campaign level'!$H$2:$H$925,'Campaign level'!$B$2:$B$925,$A2) -> #N/A | E2: =SUMIFS(#REF!,'Campaign level'!$B$2:$B$925,$A2) -> #N/A | G2: =D2/C2 -> #N/A | H2: =B2/D2 -> #N/A | I2: =B2/E2 -> #N/A | K2: =E2/D2 -> #N/A
A3: 42127 | B3: =SUMIFS('Campaign level'!$D$2:$D$925,'Campaign level'!$B$2:$B$925,$A3) -> #N/A | C3: =SUMIFS('Campaign level'!$F$2:$F$925,'Campaign level'!$B$2:$B$925,$A3) -> #N/A | D3: =SUMIFS('Campaign level'!$H$2:$H$925,'Campaign level'!$B$2:$B$925,$A3) -> #N/A | E3: =SUMIFS(#REF!,'Campaign level'!$B$2:$B$925,$A3) -> #N/A | G3: =D3/C3 -> #N/A | H3: =B3/D3 -> #N/A | I3: =B3/E3 -> #N/A | K3: =E3/D3 -> #N/A
A4: =A3+7 -> 42134 | B4: =SUMIFS('Campaign level'!$D$2:$D$925,'Campaign level'!$B$2:$B$925,$A4) -> #N/A | C4: =SUMIFS('Campaign level'!$F$2:$F$925,'Campaign level'!$B$2:$B$925,$A4) -> #N/A | D4: =SUMIFS('Campaign level'!$H$2:$H$925,'Campaign level'!$B$2:$B$925,$A4) -> #N/A | E4: 5 | G4: =D4/C4 -> #N/A | H4: =B4/D4 -> #N/A | I4: =B4/E4 -> #N/A | K4: =E4/D4 -> #N/A
A5: =A4+7 -> 42141 | B5: =SUMIFS('Campaign level'!$D$2:$D$925,'Campaign level'!$B$2:$B$925,$A5) -> #N/A | C5: =SUMIFS('Campaign level'!$F$2:$F$925,'Campaign level'!$B$2:$B$925,$A5) -> #N/A | D5: =SUMIFS('Campaign level'!$H$2:$H$925,'Campaign level'!$B$2:$B$925,$A5) -> #N/A | E5: 5 | F5: 7 | G5: =D5/C5 -> #N/A | H5: =B5/D5 -> #N/A | I5: =B5/F5 -> #N/A | K5: =E5/D5 -> #N/A
A6: Total | B6: =sum(B2:B5) -> #N/A | C6: =sum(C2:C5) -> #N/A | D6: =sum(D2:D5) -> #N/A | E6: =sum(E2:E5) -> #N/A | F6: =sum(E2:E4)+F5 -> #N/A | G6: =D6/C6 -> #N/A | H6: =B6/D6 -> #N/A | I6: =B6/F6 -> #N/A | K6: =E6/D6 -> #N/A
A7: Evol. w/w | B7: =B4/B3-1 -> #N/A | C7: =C4/C3-1 -> #N/A | D7: =D4/D3-1 -> #N/A | E7: =E4/E3-1 -> #N/A | G7: =G4/G3-1 -> #N/A | H7: =H4/H3-1 -> #N/A | I7: =I4/I3-1 -> #N/A
A8: * FB Pixel
A9: ** Facebook and (other) with utm_campaign
A11: Target Spend | B11: 2000 | C11: monthly
B12: =B11/4.5 -> 444.44444 | C12: weekly
A13: CPA
